BEGIN:VCALENDAR
VERSION:2.0
PRODID:-//wp-events-plugin.com//7.2.3.1//EN
TZID:America/Costa_Rica
X-WR-TIMEZONE:America/Costa_Rica
BEGIN:VEVENT
UID:30@filcr.com
DTSTART;TZID=America/Costa_Rica:20250719T180000
DTEND;TZID=America/Costa_Rica:20250719T190000
DTSTAMP:20250716T000644Z
URL:https://www.filcr.com/events/voces-diversas-tres-autores-de-la-diversi
 dad-sexual-expondran-los-retos-del-camino-a-publicar-temas-que-reflejan-el
 -amor-y-el-erotismo-lejos-de-las-normas-represivas-del-conservadurismo/
SUMMARY:Voces diversas: tres autores de la diversidad sexual expondrán los
  retos del camino a publicar temas que reflejan el amor y el erotismo lejo
 s de las normas represivas del conservadurismo.
DESCRIPTION:
ATTACH;FMTTYPE=image/jpeg:https://www.filcr.com/wp-content/uploads/2025/06
 /lanzamientos.png
CATEGORIES:Conversatorios,Sala Octavio Paz
END:VEVENT
BEGIN:VTIMEZONE
TZID:America/Costa_Rica
X-LIC-LOCATION:America/Costa_Rica
BEGIN:STANDARD
DTSTART:20240719T180000
TZOFFSETFROM:-0600
TZOFFSETTO:-0600
TZNAME:CST
END:STANDARD
END:VTIMEZONE
END:VCALENDAR