BEGIN:VCALENDAR
VERSION:2.0
PRODID:-//wp-events-plugin.com//7.2.3.1//EN
TZID:America/Costa_Rica
X-WR-TIMEZONE:America/Costa_Rica
BEGIN:VEVENT
UID:132@filcr.com
DTSTART;TZID=America/Costa_Rica:20250726T130000
DTEND;TZID=America/Costa_Rica:20250726T140000
DTSTAMP:20250725T050524Z
URL:https://www.filcr.com/events/todo-nino-a-es-lector-como-lograr-que-sus
 -hijas-os-se-enamoran-con-la-lectura/
SUMMARY:Todo Niño/a es lector - Como lograr que sus hijas/os se enamoran c
 on la lectura
DESCRIPTION:
ATTACH;FMTTYPE=image/jpeg:https://www.filcr.com/wp-content/uploads/2025/06
 /conversatorios.png
CATEGORIES:Conversatorios,Sala Miguel Anges Asturias
END:VEVENT
BEGIN:VTIMEZONE
TZID:America/Costa_Rica
X-LIC-LOCATION:America/Costa_Rica
BEGIN:STANDARD
DTSTART:20240726T130000
TZOFFSETFROM:-0600
TZOFFSETTO:-0600
TZNAME:CST
END:STANDARD
END:VTIMEZONE
END:VCALENDAR