BEGIN:VCALENDAR
VERSION:2.0
PRODID:-//wp-events-plugin.com//7.2.3.1//EN
TZID:America/Costa_Rica
X-WR-TIMEZONE:America/Costa_Rica
BEGIN:VEVENT
UID:51@filcr.com
DTSTART;TZID=America/Costa_Rica:20250720T140000
DTEND;TZID=America/Costa_Rica:20250720T150000
DTSTAMP:20250716T031535Z
URL:https://www.filcr.com/events/salve-oh-tierra-gentil-descripcion-detall
 ada-con-mapas-de-la-guerra-patria-de-1856-1857/
SUMMARY:Salve\, Oh tierra gentil- Descripción detallada con mapas de la Gu
 erra Patria de 1856-1857.
DESCRIPTION:
ATTACH;FMTTYPE=image/jpeg:https://www.filcr.com/wp-content/uploads/2025/06
 /lanzamientos.png
CATEGORIES:Lanzamiento,Sala Gabriel Garcia Marquez
END:VEVENT
BEGIN:VTIMEZONE
TZID:America/Costa_Rica
X-LIC-LOCATION:America/Costa_Rica
BEGIN:STANDARD
DTSTART:20240720T140000
TZOFFSETFROM:-0600
TZOFFSETTO:-0600
TZNAME:CST
END:STANDARD
END:VTIMEZONE
END:VCALENDAR