BEGIN:VCALENDAR
VERSION:2.0
PRODID:-//wp-events-plugin.com//7.2.3.1//EN
TZID:America/Costa_Rica
X-WR-TIMEZONE:America/Costa_Rica
BEGIN:VEVENT
UID:75@filcr.com
DTSTART;TZID=America/Costa_Rica:20250721T140000
DTEND;TZID=America/Costa_Rica:20250721T150000
DTSTAMP:20250716T144113Z
URL:https://www.filcr.com/events/retorno-a-la-palabra-po-etica-y-creacion-
 literaria-45min/
SUMMARY:RETORNO A LA PALABRA – Po-ética y Creación literaria (45min)
DESCRIPTION:Este conversatorio propone un espacio para reflexionar sobre lo
 s vínculos entre ética y creación literaria desde la experiencia de esc
 ritoras y escritores costarricenses que entienden la poesía como un acto 
 de responsabilidad y pensamiento crítico. En diálogo con el relanzamient
 o de Nueva York Poetry Review\, se abordarán temas como la dignidad en el
  ejercicio de la palabra\, la circulación internacional de la poesía esc
 rita desde el sur\, y la necesidad de repensar colectivamente los
ATTACH;FMTTYPE=image/jpeg:https://www.filcr.com/wp-content/uploads/2025/06
 /conversatorios.png
CATEGORIES:Conversatorios,Sala Gabriel Garcia Marquez
END:VEVENT
BEGIN:VTIMEZONE
TZID:America/Costa_Rica
X-LIC-LOCATION:America/Costa_Rica
BEGIN:STANDARD
DTSTART:20240721T140000
TZOFFSETFROM:-0600
TZOFFSETTO:-0600
TZNAME:CST
END:STANDARD
END:VTIMEZONE
END:VCALENDAR