BEGIN:VCALENDAR
VERSION:2.0
PRODID:-//wp-events-plugin.com//7.2.3.1//EN
TZID:America/Costa_Rica
X-WR-TIMEZONE:America/Costa_Rica
BEGIN:VEVENT
UID:23@filcr.com
DTSTART;TZID=America/Costa_Rica:20250719T150000
DTEND;TZID=America/Costa_Rica:20250719T160000
DTSTAMP:20250715T235910Z
URL:https://www.filcr.com/events/presentacion-del-libro-ideas-ensayos-y-pa
 isajes-autor-luis-barahona-jimenez-macarena-barahona/
SUMMARY:Presentación del libro "Ideas\, ensayos y paisajes Autor: Luis Bar
 ahona Jiménez/ Macarena Barahona
DESCRIPTION:
ATTACH;FMTTYPE=image/jpeg:https://www.filcr.com/wp-content/uploads/2025/06
 /lanzamientos.png
CATEGORIES:Lanzamiento,Sala Miguel Anges Asturias
END:VEVENT
BEGIN:VTIMEZONE
TZID:America/Costa_Rica
X-LIC-LOCATION:America/Costa_Rica
BEGIN:STANDARD
DTSTART:20240719T150000
TZOFFSETFROM:-0600
TZOFFSETTO:-0600
TZNAME:CST
END:STANDARD
END:VTIMEZONE
END:VCALENDAR