BEGIN:VCALENDAR
VERSION:2.0
PRODID:-//wp-events-plugin.com//7.2.3.1//EN
TZID:America/Costa_Rica
X-WR-TIMEZONE:America/Costa_Rica
BEGIN:VEVENT
UID:15@filcr.com
DTSTART;TZID=America/Costa_Rica:20250719T120000
DTEND;TZID=America/Costa_Rica:20250719T130000
DTSTAMP:20250715T231447Z
URL:https://www.filcr.com/events/presentacion-del-libro-forgive-me-con-la-
 autora-del-mismo-autora-nacional/
SUMMARY:Presentación del libro “forgive me” con la autora del mismo. A
 utora nacional.
DESCRIPTION:
ATTACH;FMTTYPE=image/jpeg:https://www.filcr.com/wp-content/uploads/2025/06
 /lanzamientos.png
CATEGORIES:Lanzamiento,Sala Miguel Anges Asturias
END:VEVENT
BEGIN:VTIMEZONE
TZID:America/Costa_Rica
X-LIC-LOCATION:America/Costa_Rica
BEGIN:STANDARD
DTSTART:20240719T120000
TZOFFSETFROM:-0600
TZOFFSETTO:-0600
TZNAME:CST
END:STANDARD
END:VTIMEZONE
END:VCALENDAR