BEGIN:VCALENDAR
VERSION:2.0
PRODID:-//wp-events-plugin.com//7.2.3.1//EN
TZID:America/Costa_Rica
X-WR-TIMEZONE:America/Costa_Rica
BEGIN:VEVENT
UID:92@filcr.com
DTSTART;TZID=America/Costa_Rica:20250723T140000
DTEND;TZID=America/Costa_Rica:20250723T150000
DTSTAMP:20250716T154107Z
URL:https://www.filcr.com/events/presentacion-del-libro-clasico-dibujando-
 por-observacion-con-patricia-coenjaerts/
SUMMARY:Presentación del libro  clásico: “Dibujando por Observación”
  con Patricia Coenjaerts.
DESCRIPTION:Es fundamental conocer los fundamentos del dibujo y del arte\, 
 especialmente después de haber dibujado y copiado manga anime. Un título
  que inspire universalmente a la creación de imágenes.\n\nPatricia Coenj
 aerts Autora extranjera 
ATTACH;FMTTYPE=image/jpeg:https://www.filcr.com/wp-content/uploads/2025/06
 /talleres.png
CATEGORIES:Sala Gabriel Garcia Marquez,Talleres
END:VEVENT
BEGIN:VTIMEZONE
TZID:America/Costa_Rica
X-LIC-LOCATION:America/Costa_Rica
BEGIN:STANDARD
DTSTART:20240723T140000
TZOFFSETFROM:-0600
TZOFFSETTO:-0600
TZNAME:CST
END:STANDARD
END:VTIMEZONE
END:VCALENDAR