BEGIN:VCALENDAR
VERSION:2.0
PRODID:-//wp-events-plugin.com//7.2.3.1//EN
TZID:America/Costa_Rica
X-WR-TIMEZONE:America/Costa_Rica
BEGIN:VEVENT
UID:57@filcr.com
DTSTART;TZID=America/Costa_Rica:20250720T150000
DTEND;TZID=America/Costa_Rica:20250720T160000
DTSTAMP:20250716T032205Z
URL:https://www.filcr.com/events/presentacion-de-plantas-medicinales-de-mo
 nteverde-de-hernan-rodriguez-navas/
SUMMARY:Presentación de Plantas medicinales de Monteverde de Hernán Rodr
 íguez Navas
DESCRIPTION:
ATTACH;FMTTYPE=image/jpeg:https://www.filcr.com/wp-content/uploads/2025/06
 /lanzamientos.png
CATEGORIES:Lanzamiento,Sala Gabriel Garcia Marquez
END:VEVENT
BEGIN:VTIMEZONE
TZID:America/Costa_Rica
X-LIC-LOCATION:America/Costa_Rica
BEGIN:STANDARD
DTSTART:20240720T150000
TZOFFSETFROM:-0600
TZOFFSETTO:-0600
TZNAME:CST
END:STANDARD
END:VTIMEZONE
END:VCALENDAR