BEGIN:VCALENDAR
VERSION:2.0
PRODID:-//wp-events-plugin.com//7.2.3.1//EN
TZID:America/Costa_Rica
X-WR-TIMEZONE:America/Costa_Rica
BEGIN:VEVENT
UID:24@filcr.com
DTSTART;TZID=America/Costa_Rica:20250719T150000
DTEND;TZID=America/Costa_Rica:20250719T160000
DTSTAMP:20250716T000007Z
URL:https://www.filcr.com/events/presentacion-de-los-libros-desde-la-buhar
 dilla-de-lo-femenino-1-y-2-de-maria-bonilla/
SUMMARY:Presentación de los libros "Desde la Buhardilla de lo femenino 1 y
  2" de María Bonilla
DESCRIPTION:
ATTACH;FMTTYPE=image/jpeg:https://www.filcr.com/wp-content/uploads/2025/06
 /lanzamientos.png
CATEGORIES:Lanzamiento,Sala Gabriel Garcia Marquez
END:VEVENT
BEGIN:VTIMEZONE
TZID:America/Costa_Rica
X-LIC-LOCATION:America/Costa_Rica
BEGIN:STANDARD
DTSTART:20240719T150000
TZOFFSETFROM:-0600
TZOFFSETTO:-0600
TZNAME:CST
END:STANDARD
END:VTIMEZONE
END:VCALENDAR