BEGIN:VCALENDAR
VERSION:2.0
PRODID:-//wp-events-plugin.com//7.2.3.1//EN
TZID:America/Costa_Rica
X-WR-TIMEZONE:America/Costa_Rica
BEGIN:VEVENT
UID:61@filcr.com
DTSTART;TZID=America/Costa_Rica:20250720T160000
DTEND;TZID=America/Costa_Rica:20250720T170000
DTSTAMP:20250716T032523Z
URL:https://www.filcr.com/events/presentacion-de-libro-orientaciones-de-ol
 o-hacia-el-presente-arquitectura-y-politica-material-tras-la-obra-de-carme
 n-naranjo-de-edgar-perez-saborio-esta-obra-ganadora-del-ii-certamen-litera
 rio-ca/
SUMMARY:Presentación de libro: Orientaciones de Olo hacia el presente. Arq
 uitectura y política material tras la obra de Carmen Naranjo\, de Édgar 
 Pérez Saborío. Esta obra\, ganadora del II Certamen Literario Carmen Nar
 anjo 2022
DESCRIPTION:
ATTACH;FMTTYPE=image/jpeg:https://www.filcr.com/wp-content/uploads/2025/06
 /lanzamientos.png
CATEGORIES:Foyer Sala Gabriela Mistral,Lanzamiento
END:VEVENT
BEGIN:VTIMEZONE
TZID:America/Costa_Rica
X-LIC-LOCATION:America/Costa_Rica
BEGIN:STANDARD
DTSTART:20240720T160000
TZOFFSETFROM:-0600
TZOFFSETTO:-0600
TZNAME:CST
END:STANDARD
END:VTIMEZONE
END:VCALENDAR