BEGIN:VCALENDAR
VERSION:2.0
PRODID:-//wp-events-plugin.com//7.2.3.1//EN
TZID:America/Costa_Rica
X-WR-TIMEZONE:America/Costa_Rica
BEGIN:VEVENT
UID:19@filcr.com
DTSTART;TZID=America/Costa_Rica:20250719T140000
DTEND;TZID=America/Costa_Rica:20250719T150000
DTSTAMP:20250715T231914Z
URL:https://www.filcr.com/events/presentacion-de-la-obra-las-transformacio
 nes-del-derecho-constitucional-costarricense-esta-es-un-obra-colectiva-de-
 varios-juristas-destacados-de-pais-expertos-en-derecho-constitucional/
SUMMARY:Presentación de la Obra "Las transformaciones del derecho constitu
 cional costarricense." Esta es un obra colectiva de varios juristas destac
 ados de país\, expertos en Derecho Constitucional.
DESCRIPTION:
ATTACH;FMTTYPE=image/jpeg:https://www.filcr.com/wp-content/uploads/2025/06
 /lanzamientos.png
CATEGORIES:Lanzamiento,Sala Miguel Anges Asturias
END:VEVENT
BEGIN:VTIMEZONE
TZID:America/Costa_Rica
X-LIC-LOCATION:America/Costa_Rica
BEGIN:STANDARD
DTSTART:20240719T140000
TZOFFSETFROM:-0600
TZOFFSETTO:-0600
TZNAME:CST
END:STANDARD
END:VTIMEZONE
END:VCALENDAR