BEGIN:VCALENDAR
VERSION:2.0
PRODID:-//wp-events-plugin.com//7.2.3.1//EN
TZID:America/Costa_Rica
X-WR-TIMEZONE:America/Costa_Rica
BEGIN:VEVENT
UID:29@filcr.com
DTSTART;TZID=America/Costa_Rica:20250719T170000
DTEND;TZID=America/Costa_Rica:20250719T180000
DTSTAMP:20250716T000520Z
URL:https://www.filcr.com/events/presentacion-de-la-nueva-novela-de-la-aut
 ora-le-fernandez-silencio/
SUMMARY:Presentación de la nueva novela de la autora Le Fernández\, Silen
 cio
DESCRIPTION:
ATTACH;FMTTYPE=image/jpeg:https://www.filcr.com/wp-content/uploads/2025/06
 /lanzamientos.png
CATEGORIES:Lanzamiento,Sala Gabriel Garcia Marquez
END:VEVENT
BEGIN:VTIMEZONE
TZID:America/Costa_Rica
X-LIC-LOCATION:America/Costa_Rica
BEGIN:STANDARD
DTSTART:20240719T170000
TZOFFSETFROM:-0600
TZOFFSETTO:-0600
TZNAME:CST
END:STANDARD
END:VTIMEZONE
END:VCALENDAR