BEGIN:VCALENDAR
VERSION:2.0
PRODID:-//wp-events-plugin.com//7.2.3.1//EN
TZID:America/Costa_Rica
X-WR-TIMEZONE:America/Costa_Rica
BEGIN:VEVENT
UID:66@filcr.com
DTSTART;TZID=America/Costa_Rica:20250720T180000
DTEND;TZID=America/Costa_Rica:20250720T190000
DTSTAMP:20250716T033454Z
URL:https://www.filcr.com/events/presentacion-de-el-principito-nino-migran
 te-ilustrado-por-ruth-angulo/
SUMMARY:Presentación de "El principito. Niño migrante" ilustrado por Ruth
  Angulo
DESCRIPTION:
ATTACH;FMTTYPE=image/jpeg:https://www.filcr.com/wp-content/uploads/2025/06
 /lanzamientos.png
CATEGORIES:Foyer Sala Gabriela Mistral,Lanzamiento
END:VEVENT
BEGIN:VTIMEZONE
TZID:America/Costa_Rica
X-LIC-LOCATION:America/Costa_Rica
BEGIN:STANDARD
DTSTART:20240720T180000
TZOFFSETFROM:-0600
TZOFFSETTO:-0600
TZNAME:CST
END:STANDARD
END:VTIMEZONE
END:VCALENDAR