BEGIN:VCALENDAR
VERSION:2.0
PRODID:-//wp-events-plugin.com//7.2.3.1//EN
TZID:America/Costa_Rica
X-WR-TIMEZONE:America/Costa_Rica
BEGIN:VEVENT
UID:55@filcr.com
DTSTART;TZID=America/Costa_Rica:20250720T150000
DTEND;TZID=America/Costa_Rica:20250720T160000
DTSTAMP:20250716T032010Z
URL:https://www.filcr.com/events/nombre-publicando-con-la-editorial-de-tin
 tin-los-secretos-del-proceso-editorial-de-novela-grafica/
SUMMARY:Nombre: Publicando con la editorial de Tintín: los secretos del pr
 oceso editorial de novela gráfica.
DESCRIPTION:
ATTACH;FMTTYPE=image/jpeg:https://www.filcr.com/wp-content/uploads/2025/06
 /conversatorios.png
CATEGORIES:Conversatorios,Sala Miguel Anges Asturias
END:VEVENT
BEGIN:VTIMEZONE
TZID:America/Costa_Rica
X-LIC-LOCATION:America/Costa_Rica
BEGIN:STANDARD
DTSTART:20240720T150000
TZOFFSETFROM:-0600
TZOFFSETTO:-0600
TZNAME:CST
END:STANDARD
END:VTIMEZONE
END:VCALENDAR