BEGIN:VCALENDAR
VERSION:2.0
PRODID:-//wp-events-plugin.com//7.2.3.1//EN
TZID:America/Costa_Rica
X-WR-TIMEZONE:America/Costa_Rica
BEGIN:VEVENT
UID:60@filcr.com
DTSTART;TZID=America/Costa_Rica:20250720T160000
DTEND;TZID=America/Costa_Rica:20250720T170000
DTSTAMP:20250716T032431Z
URL:https://www.filcr.com/events/mundos-fantasticos-la-saga-de-ethisiel-y-
 los-mundos-elusivos/
SUMMARY:"Mundos fantásticos: la saga de Ethisiel y Los Mundos Elusivos"
DESCRIPTION:
ATTACH;FMTTYPE=image/jpeg:https://www.filcr.com/wp-content/uploads/2025/06
 /lanzamientos.png
CATEGORIES:Lanzamiento,Sala Miguel Anges Asturias
END:VEVENT
BEGIN:VTIMEZONE
TZID:America/Costa_Rica
X-LIC-LOCATION:America/Costa_Rica
BEGIN:STANDARD
DTSTART:20240720T160000
TZOFFSETFROM:-0600
TZOFFSETTO:-0600
TZNAME:CST
END:STANDARD
END:VTIMEZONE
END:VCALENDAR