BEGIN:VCALENDAR
VERSION:2.0
PRODID:-//wp-events-plugin.com//7.2.3.1//EN
TZID:America/Costa_Rica
X-WR-TIMEZONE:America/Costa_Rica
BEGIN:VEVENT
UID:111@filcr.com
DTSTART;TZID=America/Costa_Rica:20250725T150000
DTEND;TZID=America/Costa_Rica:20250725T160000
DTSTAMP:20250725T043128Z
URL:https://www.filcr.com/events/lazos-de-amistad/
SUMMARY:Lazos de amistad.
DESCRIPTION:Se presentarán compañeras del grupo Namai y compañeros del G
 rupo Literario Luz del Faro\, de la provincia de Puntarenas. Dos provincia
 s que se unen en una sola voz.
ATTACH;FMTTYPE=image/jpeg:https://www.filcr.com/wp-content/uploads/2025/06
 /conversatorios.png
CATEGORIES:Conversatorios,Sala Gabriel Garcia Marquez
END:VEVENT
BEGIN:VTIMEZONE
TZID:America/Costa_Rica
X-LIC-LOCATION:America/Costa_Rica
BEGIN:STANDARD
DTSTART:20240725T150000
TZOFFSETFROM:-0600
TZOFFSETTO:-0600
TZNAME:CST
END:STANDARD
END:VTIMEZONE
END:VCALENDAR