BEGIN:VCALENDAR
VERSION:2.0
PRODID:-//wp-events-plugin.com//7.2.3.1//EN
TZID:America/Costa_Rica
X-WR-TIMEZONE:America/Costa_Rica
BEGIN:VEVENT
UID:112@filcr.com
DTSTART;TZID=America/Costa_Rica:20250725T150000
DTEND;TZID=America/Costa_Rica:20250725T160000
DTSTAMP:20250725T043238Z
URL:https://www.filcr.com/events/la-lectura-como-medicina-libros-que-acomp
 anan-en-momentos-dificiles/
SUMMARY:La Lectura como Medicina: Libros que Acompañan en Momentos Difíci
 les
DESCRIPTION:
ATTACH;FMTTYPE=image/jpeg:https://www.filcr.com/wp-content/uploads/2025/06
 /conversatorios.png
CATEGORIES:Foyer Sala Gabriela Mistral
END:VEVENT
BEGIN:VTIMEZONE
TZID:America/Costa_Rica
X-LIC-LOCATION:America/Costa_Rica
BEGIN:STANDARD
DTSTART:20240725T150000
TZOFFSETFROM:-0600
TZOFFSETTO:-0600
TZNAME:CST
END:STANDARD
END:VTIMEZONE
END:VCALENDAR