BEGIN:VCALENDAR
VERSION:2.0
PRODID:-//wp-events-plugin.com//7.2.3.1//EN
TZID:America/Costa_Rica
X-WR-TIMEZONE:America/Costa_Rica
BEGIN:VEVENT
UID:50@filcr.com
DTSTART;TZID=America/Costa_Rica:20250720T140000
DTEND;TZID=America/Costa_Rica:20250720T150000
DTSTAMP:20250716T031445Z
URL:https://www.filcr.com/events/la-escritura-como-forma-de-identidad-pers
 onal-y-social-conversatorio-en-torno-a-la-novela-las-heridas-en-el-corse-a
 utora-yolanda-bertozzi/
SUMMARY:La escritura como forma de identidad personal y social. Conversator
 io en torno a la novela: Las heridas en el Corsé. Autora\, Yolanda Bertoz
 zi.
DESCRIPTION:
ATTACH;FMTTYPE=image/jpeg:https://www.filcr.com/wp-content/uploads/2025/06
 /conversatorios.png
CATEGORIES:Conversatorios,Sala Miguel Anges Asturias
END:VEVENT
BEGIN:VTIMEZONE
TZID:America/Costa_Rica
X-LIC-LOCATION:America/Costa_Rica
BEGIN:STANDARD
DTSTART:20240720T140000
TZOFFSETFROM:-0600
TZOFFSETTO:-0600
TZNAME:CST
END:STANDARD
END:VTIMEZONE
END:VCALENDAR