BEGIN:VCALENDAR
VERSION:2.0
PRODID:-//wp-events-plugin.com//7.2.3.1//EN
TZID:America/Costa_Rica
X-WR-TIMEZONE:America/Costa_Rica
BEGIN:VEVENT
UID:4@filcr.com
DTSTART;TZID=America/Costa_Rica:20250620T130000
DTEND;TZID=America/Costa_Rica:20250620T133000
DTSTAMP:20250618T181632Z
URL:https://www.filcr.com/events/evento-4/
SUMMARY:Evento 4
DESCRIPTION:este es un primer evento de muestra
ATTACH;FMTTYPE=image/jpeg:https://www.filcr.com/wp-content/uploads/2024/08
 /Imagen-de-WhatsApp-2024-08-06-a-las-20.47.25_8aa25a13.jpg
CATEGORIES:Conversatorios,Lanzamiento,Talleres
END:VEVENT
BEGIN:VTIMEZONE
TZID:America/Costa_Rica
X-LIC-LOCATION:America/Costa_Rica
BEGIN:STANDARD
DTSTART:20240620T130000
TZOFFSETFROM:-0600
TZOFFSETTO:-0600
TZNAME:CST
END:STANDARD
END:VTIMEZONE
END:VCALENDAR