BEGIN:VCALENDAR
VERSION:2.0
PRODID:-//wp-events-plugin.com//7.2.3.1//EN
TZID:America/Costa_Rica
X-WR-TIMEZONE:America/Costa_Rica
BEGIN:VEVENT
UID:3@filcr.com
DTSTART;TZID=America/Costa_Rica:20250620T120000
DTEND;TZID=America/Costa_Rica:20250620T124500
DTSTAMP:20250618T181509Z
URL:https://www.filcr.com/events/evento-3/
SUMMARY:Evento 3
DESCRIPTION:este es un primer evento de muestra
ATTACH;FMTTYPE=image/jpeg:https://www.filcr.com/wp-content/uploads/2024/03
 /10151142_735017779871309_803773330_n.jpg
CATEGORIES:Conversatorios,Lanzamiento,Talleres
END:VEVENT
BEGIN:VTIMEZONE
TZID:America/Costa_Rica
X-LIC-LOCATION:America/Costa_Rica
BEGIN:STANDARD
DTSTART:20240620T120000
TZOFFSETFROM:-0600
TZOFFSETTO:-0600
TZNAME:CST
END:STANDARD
END:VTIMEZONE
END:VCALENDAR