BEGIN:VCALENDAR
VERSION:2.0
PRODID:-//wp-events-plugin.com//7.2.3.1//EN
TZID:America/Costa_Rica
X-WR-TIMEZONE:America/Costa_Rica
BEGIN:VEVENT
UID:1@filcr.com
DTSTART;TZID=America/Costa_Rica:20250620T100000
DTEND;TZID=America/Costa_Rica:20250620T104500
DTSTAMP:20250618T181254Z
URL:https://www.filcr.com/events/evento-1/
SUMMARY:Evento 1
DESCRIPTION:este es un primer evento de muestra
ATTACH;FMTTYPE=image/jpeg:https://www.filcr.com/wp-content/uploads/2024/03
 /359835586_676143597890385_4917485683183356068_n.jpg
CATEGORIES:Conversatorios,Lanzamiento,Talleres
END:VEVENT
BEGIN:VTIMEZONE
TZID:America/Costa_Rica
X-LIC-LOCATION:America/Costa_Rica
BEGIN:STANDARD
DTSTART:20240620T100000
TZOFFSETFROM:-0600
TZOFFSETTO:-0600
TZNAME:CST
END:STANDARD
END:VTIMEZONE
END:VCALENDAR