BEGIN:VCALENDAR
VERSION:2.0
PRODID:-//wp-events-plugin.com//7.2.3.1//EN
TZID:America/Costa_Rica
X-WR-TIMEZONE:America/Costa_Rica
BEGIN:VEVENT
UID:64@filcr.com
DTSTART;TZID=America/Costa_Rica:20250720T170000
DTEND;TZID=America/Costa_Rica:20250720T180000
DTSTAMP:20250716T033317Z
URL:https://www.filcr.com/events/entre-vinculos-y-bienes-una-mirada-integr
 al-al-derecho-de-familia-y-sucesiones/
SUMMARY:Entre vínculos y bienes: Una mirada integral al Derecho de Familia
  y Sucesiones
DESCRIPTION:
ATTACH;FMTTYPE=image/jpeg:https://www.filcr.com/wp-content/uploads/2025/06
 /conversatorios.png
CATEGORIES:Conversatorios,Foyer Sala Gabriela Mistral
END:VEVENT
BEGIN:VTIMEZONE
TZID:America/Costa_Rica
X-LIC-LOCATION:America/Costa_Rica
BEGIN:STANDARD
DTSTART:20240720T170000
TZOFFSETFROM:-0600
TZOFFSETTO:-0600
TZNAME:CST
END:STANDARD
END:VTIMEZONE
END:VCALENDAR