BEGIN:VCALENDAR
VERSION:2.0
PRODID:-//wp-events-plugin.com//7.2.3.1//EN
TZID:America/Costa_Rica
X-WR-TIMEZONE:America/Costa_Rica
BEGIN:VEVENT
UID:54@filcr.com
DTSTART;TZID=America/Costa_Rica:20250720T150000
DTEND;TZID=America/Costa_Rica:20250720T160000
DTSTAMP:20250716T031911Z
URL:https://www.filcr.com/events/encuentro-con-el-escritor-canadiense-eric
 -chacour/
SUMMARY:Encuentro con el escritor canadiense Éric Chacour
DESCRIPTION:Encuentro con el escritor canadiense Éric Chacour (ganador del
  Premio de los cinco continentes de la Francofonía 2023\, del Premio de l
 os libreros de Francia 2024\, del Prix Femina des Lycéens y seleccionado 
 entre las candidaturas al Premio Renaudot)\, autor de la novela "Lo que s
 é de ti". Será entrevistado por Laura Flores\, editora de la Revista Nac
 ional de Cultura de la UNED y discutirán sobre el trabajo del autor.
ATTACH;FMTTYPE=image/jpeg:https://www.filcr.com/wp-content/uploads/2025/06
 /conversatorios.png
CATEGORIES:Conversatorios,Foyer Sala Gabriela Mistral
END:VEVENT
BEGIN:VTIMEZONE
TZID:America/Costa_Rica
X-LIC-LOCATION:America/Costa_Rica
BEGIN:STANDARD
DTSTART:20240720T150000
TZOFFSETFROM:-0600
TZOFFSETTO:-0600
TZNAME:CST
END:STANDARD
END:VTIMEZONE
END:VCALENDAR