BEGIN:VCALENDAR
VERSION:2.0
PRODID:-//wp-events-plugin.com//7.2.3.1//EN
TZID:America/Costa_Rica
X-WR-TIMEZONE:America/Costa_Rica
BEGIN:VEVENT
UID:34@filcr.com
DTSTART;TZID=America/Costa_Rica:20250719T190000
DTEND;TZID=America/Costa_Rica:20250719T200000
DTSTAMP:20250716T001023Z
URL:https://www.filcr.com/events/el-ano-en-que-aprendi-a-vivir-literatura-
 que-nace-de-la-transformacion-presentacion-de-la-novela-el-ano-en-que-apre
 ndi-a-vivir-obra-que-transforma-la-experiencia-personal-del-cancer-en-lite
 r/
SUMMARY:"El Año en que Aprendí a Vivir: Literatura que Nace de la Transfo
 rmación" Presentación de la novela "El Año en que Aprendí a Vivir"\, o
 bra que transforma la experiencia personal del cáncer en literatura unive
 rsal. A través de la historia de Tomás Acevedo\, se exploran temas de vu
 lnerabilidad\, redefinición del éxito\, y el impacto familiar de las cri
 sis vitales.
DESCRIPTION:
ATTACH;FMTTYPE=image/jpeg:https://www.filcr.com/wp-content/uploads/2025/06
 /lanzamientos.png
CATEGORIES:Lanzamiento,Sala Gabriel Garcia Marquez
END:VEVENT
BEGIN:VTIMEZONE
TZID:America/Costa_Rica
X-LIC-LOCATION:America/Costa_Rica
BEGIN:STANDARD
DTSTART:20240719T190000
TZOFFSETFROM:-0600
TZOFFSETTO:-0600
TZNAME:CST
END:STANDARD
END:VTIMEZONE
END:VCALENDAR