BEGIN:VCALENDAR
VERSION:2.0
PRODID:-//wp-events-plugin.com//7.2.3.1//EN
TZID:America/Costa_Rica
X-WR-TIMEZONE:America/Costa_Rica
BEGIN:VEVENT
UID:42@filcr.com
DTSTART;TZID=America/Costa_Rica:20250720T120000
DTEND;TZID=America/Costa_Rica:20250720T130000
DTSTAMP:20250716T002214Z
URL:https://www.filcr.com/events/el-amor-de-los-siglos-semblanza-de-la-aut
 ora-y-lectura-de-poemas-de-la-maestra-suprema-ching-hai-con-musica-instrum
 ental/
SUMMARY:El amor de los siglos / Semblanza de la autora y lectura de poemas 
 de la Maestra Suprema Ching Hai con música instrumental
DESCRIPTION:
ATTACH;FMTTYPE=image/jpeg:https://www.filcr.com/wp-content/uploads/2025/06
 /conversatorios.png
CATEGORIES:Conversatorios,Sala Gabriel Garcia Marquez
END:VEVENT
BEGIN:VTIMEZONE
TZID:America/Costa_Rica
X-LIC-LOCATION:America/Costa_Rica
BEGIN:STANDARD
DTSTART:20240720T120000
TZOFFSETFROM:-0600
TZOFFSETTO:-0600
TZNAME:CST
END:STANDARD
END:VTIMEZONE
END:VCALENDAR