BEGIN:VCALENDAR
VERSION:2.0
PRODID:-//wp-events-plugin.com//7.2.3.1//EN
TZID:America/Costa_Rica
X-WR-TIMEZONE:America/Costa_Rica
BEGIN:VEVENT
UID:20@filcr.com
DTSTART;TZID=America/Costa_Rica:20250719T140000
DTEND;TZID=America/Costa_Rica:20250719T150000
DTSTAMP:20250715T232005Z
URL:https://www.filcr.com/events/conversatorio-la-ausencia-del-amante-en-e
 sta-conversacion-reunimos-a-un-autor-canadiense-eric-chacour-ganador-del-p
 remio-de-los-cinco-continentes-de-la-francofonia-2023-y-dos-autoras-costar
 ric/
SUMMARY:Conversatorio "La ausencia del amante": En esta conversación reuni
 mos a un autor canadiense (Éric Chacour\, ganador del Premio de los Cinco
  Continentes de la Francofonía 2023) y dos autoras costarricenses (Catali
 na Murillo\, Andrea Vásquez)\, quienes discutirán sobre la ausencia de l
 a amante en la literatura. Esta mesa será moderada por el periodista Fern
 ando Chaves Espinach.
DESCRIPTION:
ATTACH;FMTTYPE=image/jpeg:https://www.filcr.com/wp-content/uploads/2025/06
 /conversatorios.png
CATEGORIES:Conversatorios,Sala Gabriel Garcia Marquez
END:VEVENT
BEGIN:VTIMEZONE
TZID:America/Costa_Rica
X-LIC-LOCATION:America/Costa_Rica
BEGIN:STANDARD
DTSTART:20240719T140000
TZOFFSETFROM:-0600
TZOFFSETTO:-0600
TZNAME:CST
END:STANDARD
END:VTIMEZONE
END:VCALENDAR