BEGIN:VCALENDAR
VERSION:2.0
PRODID:-//wp-events-plugin.com//7.2.3.1//EN
TZID:America/Costa_Rica
X-WR-TIMEZONE:America/Costa_Rica
BEGIN:VEVENT
UID:116@filcr.com
DTSTART;TZID=America/Costa_Rica:20250725T160000
DTEND;TZID=America/Costa_Rica:20250725T170000
DTSTAMP:20250725T043546Z
URL:https://www.filcr.com/events/conferencia-un-grito-desde-el-silencio-sa
 nar-transformar-y-vivir-con-proposito/
SUMMARY:Conferencia: Un grito desde el silencio - Sanar\, transformar y viv
 ir con propósito
DESCRIPTION:
ATTACH;FMTTYPE=image/jpeg:https://www.filcr.com/wp-content/uploads/2025/06
 /conversatorios.png
CATEGORIES:Conversatorios,Sala Gabriel Garcia Marquez
END:VEVENT
BEGIN:VTIMEZONE
TZID:America/Costa_Rica
X-LIC-LOCATION:America/Costa_Rica
BEGIN:STANDARD
DTSTART:20240725T160000
TZOFFSETFROM:-0600
TZOFFSETTO:-0600
TZNAME:CST
END:STANDARD
END:VTIMEZONE
END:VCALENDAR