BEGIN:VCALENDAR
VERSION:2.0
PRODID:-//wp-events-plugin.com//7.2.3.1//EN
TZID:America/Costa_Rica
X-WR-TIMEZONE:America/Costa_Rica
BEGIN:VEVENT
UID:95@filcr.com
DTSTART;TZID=America/Costa_Rica:20250723T170000
DTEND;TZID=America/Costa_Rica:20250723T180000
DTSTAMP:20250716T154748Z
URL:https://www.filcr.com/events/conferencia-sana-crece-y-florece-el-camin
 o-de-la-superacion-personal/
SUMMARY:Conferencia: Sana\, crece y florece - El camino de la superación p
 ersonal
DESCRIPTION:Participantes: Rhode Peña (Estados Unidos)
ATTACH;FMTTYPE=image/jpeg:https://www.filcr.com/wp-content/uploads/2025/06
 /conversatorios.png
CATEGORIES:Conversatorios,Foyer Sala Gabriela Mistral
END:VEVENT
BEGIN:VTIMEZONE
TZID:America/Costa_Rica
X-LIC-LOCATION:America/Costa_Rica
BEGIN:STANDARD
DTSTART:20240723T170000
TZOFFSETFROM:-0600
TZOFFSETTO:-0600
TZNAME:CST
END:STANDARD
END:VTIMEZONE
END:VCALENDAR