BEGIN:VCALENDAR
VERSION:2.0
PRODID:-//wp-events-plugin.com//7.2.3.1//EN
TZID:America/Costa_Rica
X-WR-TIMEZONE:America/Costa_Rica
BEGIN:VEVENT
UID:47@filcr.com
DTSTART;TZID=America/Costa_Rica:20250720T130000
DTEND;TZID=America/Costa_Rica:20250720T140000
DTSTAMP:20250716T031213Z
URL:https://www.filcr.com/events/conferencia-dimensiones-psicologicas-pens
 ar-sentir-vivir-y-elegir/
SUMMARY:Conferencia: Dimensiones Psicológicas - Pensar\, sentir\, vivir y 
 elegir
DESCRIPTION:
ATTACH;FMTTYPE=image/jpeg:https://www.filcr.com/wp-content/uploads/2025/06
 /talleres.png
CATEGORIES:Sala Gabriel Garcia Marquez,Talleres
END:VEVENT
BEGIN:VTIMEZONE
TZID:America/Costa_Rica
X-LIC-LOCATION:America/Costa_Rica
BEGIN:STANDARD
DTSTART:20240720T130000
TZOFFSETFROM:-0600
TZOFFSETTO:-0600
TZNAME:CST
END:STANDARD
END:VTIMEZONE
END:VCALENDAR