BEGIN:VCALENDAR
VERSION:2.0
PRODID:-//wp-events-plugin.com//7.2.3.1//EN
TZID:America/Costa_Rica
X-WR-TIMEZONE:America/Costa_Rica
BEGIN:VEVENT
UID:28@filcr.com
DTSTART;TZID=America/Costa_Rica:20250719T170000
DTEND;TZID=America/Costa_Rica:20250719T180000
DTSTAMP:20250716T000432Z
URL:https://www.filcr.com/events/coleccion-piedra-de-la-locura-antologias-
 personales-2025-homenaje-a-alejandra-pizarnik-45-min/
SUMMARY:Colección Piedra de la locura - Antologías personales 2025 (Homen
 aje a Alejandra Pizarnik). (45 min.)
DESCRIPTION:
ATTACH;FMTTYPE=image/jpeg:https://www.filcr.com/wp-content/uploads/2025/06
 /conversatorios.png
CATEGORIES:Conversatorios,Sala Miguel Anges Asturias
END:VEVENT
BEGIN:VTIMEZONE
TZID:America/Costa_Rica
X-LIC-LOCATION:America/Costa_Rica
BEGIN:STANDARD
DTSTART:20240719T170000
TZOFFSETFROM:-0600
TZOFFSETTO:-0600
TZNAME:CST
END:STANDARD
END:VTIMEZONE
END:VCALENDAR