BEGIN:VCALENDAR
VERSION:2.0
PRODID:-//wp-events-plugin.com//7.2.3.1//EN
TZID:America/Costa_Rica
X-WR-TIMEZONE:America/Costa_Rica
BEGIN:VEVENT
UID:25@filcr.com
DTSTART;TZID=America/Costa_Rica:20250719T160000
DTEND;TZID=America/Costa_Rica:20250719T170000
DTSTAMP:20250716T000059Z
URL:https://www.filcr.com/events/coleccion-museo-salvaje-2024-25-poesia-la
 tinoamericana-homenaje-a-olga-orozco-45-min/
SUMMARY:Colección Museo Salvaje 2024-25 - Poesía latinoamericana (Homenaj
 e a Olga Orozco). (45 min.)
DESCRIPTION:
ATTACH;FMTTYPE=image/jpeg:https://www.filcr.com/wp-content/uploads/2025/06
 /lanzamientos.png
CATEGORIES:Lanzamiento,Sala Miguel Anges Asturias
END:VEVENT
BEGIN:VTIMEZONE
TZID:America/Costa_Rica
X-LIC-LOCATION:America/Costa_Rica
BEGIN:STANDARD
DTSTART:20240719T160000
TZOFFSETFROM:-0600
TZOFFSETTO:-0600
TZNAME:CST
END:STANDARD
END:VTIMEZONE
END:VCALENDAR