BEGIN:VCALENDAR
VERSION:2.0
PRODID:-//wp-events-plugin.com//7.2.3.1//EN
TZID:America/Costa_Rica
X-WR-TIMEZONE:America/Costa_Rica
BEGIN:VEVENT
UID:65@filcr.com
DTSTART;TZID=America/Costa_Rica:20250720T170000
DTEND;TZID=America/Costa_Rica:20250720T180000
DTSTAMP:20250716T033405Z
URL:https://www.filcr.com/events/circulo-sagrado-este-poemario-transita-po
 r-el-censurado-mundo-del-sangrado-menstrual-reinvindicando-su-importancia-
 y-educando-acerca-de-este-importante-ciclo/
SUMMARY:Círculo sagrado: Este poemario transita por el censurado mundo del
  sangrado menstrual reinvindicando su importancia y educando acerca de est
 e importante ciclo.
DESCRIPTION:
ATTACH;FMTTYPE=image/jpeg:https://www.filcr.com/wp-content/uploads/2025/06
 /lanzamientos.png
CATEGORIES:Lanzamiento,Sala Gabriel Garcia Marquez
END:VEVENT
BEGIN:VTIMEZONE
TZID:America/Costa_Rica
X-LIC-LOCATION:America/Costa_Rica
BEGIN:STANDARD
DTSTART:20240720T170000
TZOFFSETFROM:-0600
TZOFFSETTO:-0600
TZNAME:CST
END:STANDARD
END:VTIMEZONE
END:VCALENDAR