BEGIN:VCALENDAR
VERSION:2.0
PRODID:-//wp-events-plugin.com//7.2.3.1//EN
TZID:America/Costa_Rica
X-WR-TIMEZONE:America/Costa_Rica
BEGIN:VEVENT
UID:67@filcr.com
DTSTART;TZID=America/Costa_Rica:20250720T180000
DTEND;TZID=America/Costa_Rica:20250720T190000
DTSTAMP:20250716T033609Z
URL:https://www.filcr.com/events/charla-sobre-aves-endemicas-de-costa-rica
 -donde-se-aprovechara-para-presentar-el-libro-endemic-birds-of-costa-rica-
 del-autor-leandro-arias/
SUMMARY:Charla sobre Aves endémicas de Costa Rica donde se aprovechará pa
 ra presentar el libro "Endemic birds of Costa Rica" del autor Leandro Aria
 s.
DESCRIPTION:
ATTACH;FMTTYPE=image/jpeg:https://www.filcr.com/wp-content/uploads/2025/06
 /conversatorios.png
CATEGORIES:Conversatorios,Sala Miguel Anges Asturias
END:VEVENT
BEGIN:VTIMEZONE
TZID:America/Costa_Rica
X-LIC-LOCATION:America/Costa_Rica
BEGIN:STANDARD
DTSTART:20240720T180000
TZOFFSETFROM:-0600
TZOFFSETTO:-0600
TZNAME:CST
END:STANDARD
END:VTIMEZONE
END:VCALENDAR