BEGIN:VCALENDAR
VERSION:2.0
PRODID:-//wp-events-plugin.com//7.2.3.1//EN
TZID:America/Costa_Rica
X-WR-TIMEZONE:America/Costa_Rica
BEGIN:VEVENT
UID:43@filcr.com
DTSTART;TZID=America/Costa_Rica:20250720T120000
DTEND;TZID=America/Costa_Rica:20250720T130000
DTSTAMP:20250716T003236Z
URL:https://www.filcr.com/events/charla-o-conversatorio-sobre-el-tema-de-a
 coso-laboral-ya-que-mi-libro-se-denomina-tormentas-de-acoso-laboral-son-vi
 vencias-reales-personales-y-de-algunos-otro-participantes-comparadas-con-l
 o-que/
SUMMARY:Charla o conversatorio sobre el tema de Acoso Laboral ya que mi lib
 ro se denomina "Tormentas de Acoso Laboral"  son vivencias reales personal
 es y de algunos otro participantes comparadas con lo que indica un psicól
 ogo experto.
DESCRIPTION:
ATTACH;FMTTYPE=image/jpeg:https://www.filcr.com/wp-content/uploads/2025/06
 /conversatorios.png
CATEGORIES:Conversatorios,Sala Miguel Anges Asturias
END:VEVENT
BEGIN:VTIMEZONE
TZID:America/Costa_Rica
X-LIC-LOCATION:America/Costa_Rica
BEGIN:STANDARD
DTSTART:20240720T120000
TZOFFSETFROM:-0600
TZOFFSETTO:-0600
TZNAME:CST
END:STANDARD
END:VTIMEZONE
END:VCALENDAR