BEGIN:VCALENDAR
VERSION:2.0
PRODID:-//wp-events-plugin.com//7.2.3.1//EN
TZID:America/Costa_Rica
X-WR-TIMEZONE:America/Costa_Rica
BEGIN:VEVENT
UID:117@filcr.com
DTSTART;TZID=America/Costa_Rica:20250725T160000
DTEND;TZID=America/Costa_Rica:20250725T170000
DTSTAMP:20250725T043644Z
URL:https://www.filcr.com/events/charla-del-libro-descubiendo-el-mundo-de-
 las-fianzas-con-diego-y-sofia/
SUMMARY:Charla  del libro Descubiendo el mundo de las fianzas con diego y s
 ofia
DESCRIPTION:"Descubre el mundo de las finanzas con Diego y Sofía" es un li
 bro interactivo que introduce a niños de 6 a 12 años en conceptos clave 
 como el ahorro\, el gasto responsable y las metas financieras\, a través 
 de aventuras lúdicas y actividades familiares que fortalecen la educació
 n financiera desde el hogar
ATTACH;FMTTYPE=image/jpeg:https://www.filcr.com/wp-content/uploads/2025/06
 /conversatorios.png
CATEGORIES:Conversatorios,Sala Octavio Paz
END:VEVENT
BEGIN:VTIMEZONE
TZID:America/Costa_Rica
X-LIC-LOCATION:America/Costa_Rica
BEGIN:STANDARD
DTSTART:20240725T160000
TZOFFSETFROM:-0600
TZOFFSETTO:-0600
TZNAME:CST
END:STANDARD
END:VTIMEZONE
END:VCALENDAR