BEGIN:VCALENDAR
VERSION:2.0
PRODID:-//wp-events-plugin.com//7.2.3.1//EN
TZID:America/Costa_Rica
X-WR-TIMEZONE:America/Costa_Rica
BEGIN:VEVENT
UID:45@filcr.com
DTSTART;TZID=America/Costa_Rica:20250720T130000
DTEND;TZID=America/Costa_Rica:20250720T140000
DTSTAMP:20250716T003402Z
URL:https://www.filcr.com/events/cambie-las-reglas-del-juego-con-la-inteli
 gencia-artificial/
SUMMARY:Cambie las reglas del juego con la inteligencia artificial
DESCRIPTION:
ATTACH;FMTTYPE=image/jpeg:https://www.filcr.com/wp-content/uploads/2025/06
 /conversatorios.png
CATEGORIES:Conversatorios,Sala Miguel Anges Asturias
END:VEVENT
BEGIN:VTIMEZONE
TZID:America/Costa_Rica
X-LIC-LOCATION:America/Costa_Rica
BEGIN:STANDARD
DTSTART:20240720T130000
TZOFFSETFROM:-0600
TZOFFSETTO:-0600
TZNAME:CST
END:STANDARD
END:VTIMEZONE
END:VCALENDAR