BEGIN:VCALENDAR
VERSION:2.0
PRODID:-//wp-events-plugin.com//7.2.3.1//EN
TZID:America/Costa_Rica
X-WR-TIMEZONE:America/Costa_Rica
BEGIN:VEVENT
UID:110@filcr.com
DTSTART;TZID=America/Costa_Rica:20250725T140000
DTEND;TZID=America/Costa_Rica:20250725T150000
DTSTAMP:20250725T043030Z
URL:https://www.filcr.com/events/activa-tu-metabolismo-basado-en-el-libro-
 el-poder-del-metabolismo-del-especialista-frank-suarez-aprende-a-identific
 ar-los-obstaculos-que-reducen-el-metabolismo-y-que-te-impiden-adelgazar-2/
SUMMARY:Activa tu metabolismo. Basado en el libro El Poder del Metabolismo 
 del especialista Frank Suárez. Aprende a identificar los obstáculos que 
 reducen el metabolismo y que te impiden adelgazar.
DESCRIPTION:
ATTACH;FMTTYPE=image/jpeg:https://www.filcr.com/wp-content/uploads/2025/06
 /conversatorios.png
CATEGORIES:Conversatorios,Sala Miguel Anges Asturias
END:VEVENT
BEGIN:VTIMEZONE
TZID:America/Costa_Rica
X-LIC-LOCATION:America/Costa_Rica
BEGIN:STANDARD
DTSTART:20240725T140000
TZOFFSETFROM:-0600
TZOFFSETTO:-0600
TZNAME:CST
END:STANDARD
END:VTIMEZONE
END:VCALENDAR