BEGIN:VCALENDAR
VERSION:2.0
PRODID:-//wp-events-plugin.com//7.2.3.1//EN
TZID:America/Costa_Rica
X-WR-TIMEZONE:America/Costa_Rica
BEGIN:VEVENT
UID:82@filcr.com
DTSTART;TZID=America/Costa_Rica:20250722T110000
DTEND;TZID=America/Costa_Rica:20250722T120000
DTSTAMP:20250716T150114Z
URL:https://www.filcr.com/events/28-dias-la-diferencia-entre-el-terror-y-l
 a-esperanza-reflexiones-sobre-salud-literatura-y-sociedad/
SUMMARY:"28 Días: La Diferencia Entre el Terror y la Esperanza - Reflexion
 es sobre Salud\, Literatura y Sociedad"
DESCRIPTION:Conversatorio sobre cómo la experiencia de enfermedad se convi
 erte en reflexión social y literaria. Basado en la charla "28 Días"\, ex
 plora el viaje desde el diagnóstico hasta la transformación\, tocando te
 mas de inversión en salud\, el valor del tiempo\, y cómo las crisis pers
 onales pueden generar conciencia colectiva. Una reflexión sobre el privil
 egio\, la vulnerabilidad y la responsabilidad social.
ATTACH;FMTTYPE=image/jpeg:https://www.filcr.com/wp-content/uploads/2025/06
 /conversatorios.png
CATEGORIES:Conversatorios,Sala Gabriel Garcia Marquez
END:VEVENT
BEGIN:VTIMEZONE
TZID:America/Costa_Rica
X-LIC-LOCATION:America/Costa_Rica
BEGIN:STANDARD
DTSTART:20240722T110000
TZOFFSETFROM:-0600
TZOFFSETTO:-0600
TZNAME:CST
END:STANDARD
END:VTIMEZONE
END:VCALENDAR